BEGIN:VCALENDAR
VERSION:2.0
PRODID:http://www.msecm.com
METHOD:PUBLISH
BEGIN:VEVENT
UID:2854039
ORGANIZER;CN="MSECM Austria Martin Heger":MAILTO:events@msecm.at
LOCATION:Auster Graz Janzgasse 21 8020 Graz
SUMMARY:Int. BAUAkademie ATUS Graz Trophy 2026
DESCRIPTION: <!--<font color="red"><b>Startlist (draft version) with accepted entries is online now!</b></font>-->  <ul class="fa-ul">  <li><i class="fa-li fa fa-external-link-square color-green"></i> <a href="/events/atusmeeting26/BAUAkademie%20Graz%202026%20-%20poster.pdf" target="_blank">Race Analysis services offer</a> </li>  <li><i class="fa-li fa fa-external-link-square color-green"></i> <a target="_blank" href="/events/atusmeeting26/ausschreibung.pdf">Ausschreibung (deutsch)</a> </li>  <li><i class="fa-li fa fa-external-link-square color-green"></i> <a target="_blank" href="/events/atusmeeting26/ausschreibung_en.pdf">Invitation (english)</a> </li> <!-- <li><i class="fa-li fa fa-external-link-square color-green"></i> <a target="_blank" href="/events/atusmeeting23/zeitplan_30sek_new.pdf">Schedule (XLS)</a> </li> --> <!-- <li><i class="fa-li fa fa-external-link-square color-green"></i> <a target="_blank" href="/events/atusmeeting23/Hotel%20Recommendations.pdf">Hotel Recommendations</a> </li> </ul> --> <!-- <ul class="fa-ul"> <li><i class="fa-li fa fa-external-link-square color-green"></i> <a target="_blank" href="https//www.youtube.com/embed/aaQ250_lgRs">LiveStream Day 1</a> </li> <li><i class="fa-li fa fa-external-link-square color-green"></i> <a target="_blank" href="https//www.youtube.com/embed/nPSGlwa3CRY">LiveStream Day 2</a> </li> <li><i class="fa-li fa fa-external-link-square color-green"></i> <a target="_blank" href="https//www.youtube.com/embed/5nel4CWCFww">LiveStream Day 3</a> </li> </ul> -->
CLASS:PUBLIC
DTSTART:20260423T000000
DTEND:20260426T235959
DTSTAMP:20260424T121605 +0200
END:VEVENT
CALSCALE:GREGORIAN
END:VCALENDAR
