BEGIN:VCALENDAR
VERSION:2.0
PRODID:http://www.msecm.com
METHOD:PUBLISH
BEGIN:VEVENT
UID:1363153
ORGANIZER;CN="MSECM Austria Martin Heger":MAILTO:events@msecm.at
LOCATION:Freibad Tivoli Purtschellerstraße 1 6020 Innsbruck
SUMMARY:Finalwettkämpfe der Österr. Mannschafts- und Mehrlagenwettkämpfe der Schülerklasse
DESCRIPTION: <a href="https//www.msecm.at/events/oeschuelermann25/Zeitplan.pdf" target="_blank"><font color="red">Zeitplan / Ablaufplan</font></a> 
CLASS:PUBLIC
DTSTART:20250620T000000
DTEND:20250621T235959
DTSTAMP:20260424T114921 +0200
END:VEVENT
CALSCALE:GREGORIAN
END:VCALENDAR
