BEGIN:VCALENDAR
VERSION:2.0
PRODID:http://www.msecm.com
METHOD:PUBLISH
BEGIN:VEVENT
UID:5754132
ORGANIZER;CN="MSECM Austria Martin Heger":MAILTO:events@msecm.at
LOCATION:Kärnten Therme Warmbad Villach Kadischenallee 25 9504 Villach-Warmbad
SUMMARY:36. Int. Österreichische Mastersmeisterschaften
DESCRIPTION:<b>Buchen Sie Ihr Zimmer zum Vorteilspreis (für Wettbewerbteilnehmer) im direkt an der KärntenTherme angeschlossenen Thermenhotel Karawankenhof (direkter Verbindungsgang in die KärntenTherme!). <br><br>Schreiben Sie einfach eine E-Mail an <a href="mailtoreservierung@warmbad.at?subject=Quartier%20Österreichische Mastersmeisterschaften%20im%20Schwimmen%20zum%20Vorteilspreis%20buchen">reservierung@warmbad.at</a> oder rufen Sie an unter +43 4242 3001 -10 und erkunden Sie bei dieser Gelegenheit alle Sehenswürdigkeiten der Stadt Villach und Umgebung.<br><br>Nähere Infos unter <a href="https//www.visitvillach.at" target="_blank">www.visitvillach.at</a></b>  <!-- <font color="red"></font> -->
CLASS:PUBLIC
DTSTART:20241005T000000
DTEND:20241006T235959
DTSTAMP:20260424T124532 +0200
END:VEVENT
CALSCALE:GREGORIAN
END:VCALENDAR
