BEGIN:VCALENDAR
VERSION:2.0
PRODID:http://www.msecm.com
METHOD:PUBLISH
BEGIN:VEVENT
UID:8623037
ORGANIZER;CN="MSECM Austria Martin Heger":MAILTO:events@msecm.at
LOCATION:Allsportzentrum Eisenstadt Bad Kissingen Platz 1 7000 Eisenstadt
SUMMARY:Burgenländische Hallenlandesmeisterschaften 2024
DESCRIPTION:<!-- <font color="red">ENTWURF  23.01.2020 2116 Uhr</font> -->
CLASS:PUBLIC
DTSTART:20240120T000000
DTEND:20240121T235959
DTSTAMP:20260423T123548 +0200
END:VEVENT
CALSCALE:GREGORIAN
END:VCALENDAR
