BEGIN:VCALENDAR
VERSION:2.0
PRODID:http://www.msecm.com
METHOD:PUBLISH
BEGIN:VEVENT
UID:20980513
ORGANIZER;CN="MSECM Austria Ingo Witzmann":MAILTO:ingo.witzmann@msecm.at
LOCATION:Hallenbad Kapfenberg Johann-Brandl-Gasse 23 8605 Kapfenberg
SUMMARY:Steir. Hallenschwimmcup 2023/2024 - 4. Runde   
DESCRIPTION:<!-- <font color="red">ACHTUNG geänderter Start für Einschwimmen Abschnitt 2 - 1200 - 1250!</font> <ul class="fa-ul"> <li><i class="fa-li fa fa-external-link-square color-green"></i> </li> </ul> -->  <font color="red">Allgemeine Ausschreibung Steir. Hallencup 2023-2024</font> <ul class="fa-ul"> <li><i class="fa-li fa fa-external-link-square color-green"></i> <a class="text" target="_blank" href="/events/steirhallencup424/Allgemeine Ausschreibung HC 23_24.pdf">Allgemeine Ausschreibung</a> </li> </ul> 
CLASS:PUBLIC
DTSTART:20240120T000000
DTEND:20240120T235959
DTSTAMP:20260422T100035 +0200
END:VEVENT
CALSCALE:GREGORIAN
END:VCALENDAR
