BEGIN:VCALENDAR
VERSION:2.0
PRODID:http://www.msecm.com
METHOD:PUBLISH
BEGIN:VEVENT
UID:17431968
ORGANIZER;CN="MSECM Austria Martin Heger":MAILTO:events@msecm.at
LOCATION:Auster Graz Janzgasse 21 8020 Graz
SUMMARY:Offene Steirische Landes- und 9. Int. Steirische Mastersmeisterschaften
DESCRIPTION:<!-- <font color="red">ACHTUNG Neuer Termin</font> -->
CLASS:PUBLIC
DTSTART:20240628T000000
DTEND:20240630T235959
DTSTAMP:20260424T121807 +0200
END:VEVENT
CALSCALE:GREGORIAN
END:VCALENDAR
