BEGIN:VCALENDAR
VERSION:2.0
PRODID:http://www.msecm.com
METHOD:PUBLISH
BEGIN:VEVENT
UID:21121689
ORGANIZER;CN="MSECM Austria Martin Heger":MAILTO:events@msecm.at
LOCATION:Freibad "Im Kleinen Felde" Westring 120 32061 Herford
SUMMARY:47. Internationales Schwimmfest
DESCRIPTION:<ul class="fa-ul"> <li><i class="fa-li fa fa-external-link-square color-green"></i> <a target="_blank" href="/events/ger_herford23/anschreiben.pdf">Anschreiben</a> </li> <li><i class="fa-li fa fa-external-link-square color-green"></i> <a target="_blank" href="/events/ger_herford23/kampfgericht.pdf">Kampfrichter Einteilung</a> </li> </ul>  
CLASS:PUBLIC
DTSTART:20230520T000000
DTEND:20230521T235959
DTSTAMP:20260420T034038 +0200
END:VEVENT
CALSCALE:GREGORIAN
END:VCALENDAR
