BEGIN:VCALENDAR
VERSION:2.0
PRODID:http://www.msecm.com
METHOD:PUBLISH
BEGIN:VEVENT
UID:16557090
ORGANIZER;CN="MSECM Austria Martin Heger":MAILTO:events@msecm.at
LOCATION:Vivax Hallenbad Mürzzuschlag Waldandacht 5 8680 Mürzzuschlag
SUMMARY:35. Int. Österreichische Mastersmeisterschaften
DESCRIPTION:<!-- <font color=red>ENTWURF 20.09.2018  1948 Uhr</font><br><br> --> <!-- <font color=red>ACHTUNG Zur Schonung von Ressourcen werden KEINE Meldeergebnisse für die Vereine ausgegeben. Die Startliste steht online auf dieser Seite und in der myresults-App zur Verfügung!</font><br><br> -->   <ul class="fa-ul"> <li><i class="fa-li fa fa-external-link-square"></i><font color="red">WICHTIGE INFORMATIONEN</font></li>  <ul class="fa-ul"> <li><i class="fa-li fa fa-external-link-square color-green"></i>General Information ( <a class="hover-effect"  href="/events/oemasters23/Information%20Masters%20-%20Deutsch.pdf" target="_blank">DE</a> / <a class="hover-effect" href="/events/oemasters23/Information%20Masters-%20English.pdf" target="_blank">EN</a> )</li>  <li><i class="fa-li fa fa-external-link-square color-green"></i>Evening Event ( <a class="hover-effect" href="/events/oemasters23/EINLADUNG%20Abendveranstaltung-%20Deutsch.pdf" target="_blank">DE</a> / <a class="hover-effect" href="/events/oemasters23/INVITATION-%20Eveningevent-%20English.pdf" target="_blank">EN</a> )</li>  <li><i class="fa-li fa fa-external-link-square color-green"></i><a class="hover-effect" href="/events/oemasters23/Unterk%C3%BCnfte-2022-2023_M%C3%BCrzzuschlag-Spital.pdf" target="_blank">Hotels</a></li>  </ul> </li> </ul>  
CLASS:PUBLIC
DTSTART:20231007T000000
DTEND:20231008T235959
DTSTAMP:20260424T085638 +0200
END:VEVENT
CALSCALE:GREGORIAN
END:VCALENDAR
