BEGIN:VCALENDAR
VERSION:2.0
PRODID:http://www.msecm.com
METHOD:PUBLISH
BEGIN:VEVENT
UID:9504868
ORGANIZER;CN="MSECM Austria Martin Heger":MAILTO:events@msecm.at
LOCATION:Hallenbad Vöcklabruck Hausruckstraße 25 4840 Vöcklabruck
SUMMARY:OÖ Hallenlandesmeisterschaften 2023
DESCRIPTION:<!-- <font color="red">Entwurf  31.01.2020 1836 Uhr</font> --> <!-- <br><br> <font color="red">!! ACHTUNG Alle Läufe der 400m Freistil werden am Samstag geschwommen !!</font> -->
CLASS:PUBLIC
DTSTART:20230203T000000
DTEND:20230205T235959
DTSTAMP:20260423T123206 +0200
END:VEVENT
CALSCALE:GREGORIAN
END:VCALENDAR
