BEGIN:VCALENDAR
VERSION:2.0
PRODID:http://www.msecm.com
METHOD:PUBLISH
BEGIN:VEVENT
UID:14406610
ORGANIZER;CN="MSECM Austria Martin Heger":MAILTO:events@msecm.at
LOCATION:Badezentrum Traun Trauner Straße 25b 4050 Traun
SUMMARY:OÖ Hallenlandesmeisterschaften 2022
DESCRIPTION:  <ul class="fa-ul"> <li><i class="fa-li fa fa-external-link-square"></i><font color="red">WICHTIGE INFORMATION</font></li>  <ul class="fa-ul"> <li><i class="fa-li fa fa-external-link-square color-green"></i><a class="hover-effect" href="/events/ooehallen22/O%C3%96%20Hallenlandesmeisterschaften%202022_Covid%20Konzept.pdf" target="_blank">COVID-19 Konzept</a></li>  <li><i class="fa-li fa fa-external-link-square color-green"></i><a class="hover-effect" href="/events/ooehallen22/O%C3%96%20Hallenlandesmeisterschaften%202022_Covid%20Check-Formular.xlsx" target="_blank">Test Check Formular (XLSX)</a></li>  </ul>  </li> </ul>  <!--  <font color="red">!! ACHTUNG Alle Läufe der 400m Freistil werden am Samstag geschwommen !!</font>  -->
CLASS:PUBLIC
DTSTART:20220218T000000
DTEND:20220220T235959
DTSTAMP:20260424T121732 +0200
END:VEVENT
CALSCALE:GREGORIAN
END:VCALENDAR
