BEGIN:VCALENDAR
VERSION:2.0
PRODID:http://www.msecm.com
METHOD:PUBLISH
BEGIN:VEVENT
UID:2972491
ORGANIZER;CN="MSECM Austria Martin Heger":MAILTO:events@msecm.at
LOCATION:Auster Graz Janzgasse 21 8020 Graz
SUMMARY:Steirische Hallen- und 6. Int. Steirische Mastersmeisterschaften
DESCRIPTION:<ul class="fa-ul"> <li><i class="fa-li fa fa-external-link-square"></i><font color="red">WICHTIGE INFORMATION</font></li>  <ul class="fa-ul"> <li><i class="fa-li fa fa-external-link-square color-green"></i><a class="hover-effect" href="/events/sthallen22/COVID-Pr%C3%A4ventionskonzept%20STHMS_22.pdf" target="_blank">COVID-19 Präventionskonzept</a></li> </ul>  </li> </ul>  <!--  <font color="red">ENTWURF 23.02.2020  2137 Uhr</font> --> <!-- <font color="red">Meldeschluß ist am FREITAG 04.02.2022 2000 Uhr</font> -->  <!-- <ul class="fa-ul"> <li><i class="fa-li fa fa-external-link-square color-green"></i> <a href="/events/sthallen19/ausschreibung.pdf" target="_blank">Ausschreibung (deutsch PDF)</a> </li> <li><i class="fa-li fa fa-external-link-square color-green"></i> <a href="/events/sthallen19/ausschreibung_en.pdf" target="_blank">Invitation (english PDF)</a> </li> </ul> -->
CLASS:PUBLIC
DTSTART:20220211T000000
DTEND:20220213T235959
DTSTAMP:20260419T214717 +0200
END:VEVENT
CALSCALE:GREGORIAN
END:VCALENDAR
