BEGIN:VCALENDAR
VERSION:2.0
PRODID:http://www.msecm.com
METHOD:PUBLISH
BEGIN:VEVENT
UID:11196658
ORGANIZER;CN="MSECM Austria Martin Heger":MAILTO:events@msecm.at
LOCATION:Aquacity St. Pölten Schießstattring 15 3100 St. Pölten
SUMMARY:26. ASKÖ NÖ Hallenmeisterschaften im Schwimmen
DESCRIPTION:<ul class="fa-ul"> <li><i class="fa-li fa fa-external-link-square"></i><font color="red">WICHTIGE INFORMATION</font></li>  <ul class="fa-ul"> <li><i class="fa-li fa fa-external-link-square color-green"></i><a class="hover-effect" href="/events/noeaskoelm21/COVID-19-Pr%C3%A4ventionskonzept%20Ask%C3%B6%20Landesmeisterschaften.pdf" target="_blank">COVID-19 Präventionskonzept</a></li> </ul>  </li> </ul>
CLASS:PUBLIC
DTSTART:20211017T000000
DTEND:20211017T235959
DTSTAMP:20260424T120333 +0200
END:VEVENT
CALSCALE:GREGORIAN
END:VCALENDAR
