BEGIN:VCALENDAR
VERSION:2.0
PRODID:http://www.msecm.com
METHOD:PUBLISH
BEGIN:VEVENT
UID:23033096
ORGANIZER;CN="MSECM Austria Florian Rott":MAILTO:post@msecm.at
LOCATION:BSFZ Südstadt Liese Prokop-Platz 1
SUMMARY:Wiener Meisterschaften und Wiener Jugendmeisterschaften 2020 Flossenschwimmen & Streckentauchen
DESCRIPTION:
CLASS:PUBLIC
DTSTART:20201010T000000
DTEND:20201011T235959
DTSTAMP:20260421T122541 +0200
END:VEVENT
CALSCALE:GREGORIAN
END:VCALENDAR
