BEGIN:VCALENDAR
VERSION:2.0
PRODID:http://www.msecm.com
METHOD:PUBLISH
BEGIN:VEVENT
UID:24114706
ORGANIZER;CN="MSECM Austria Martin Heger":MAILTO:events@msecm.at
LOCATION:BSFZ Südstadt Liese-Prokop-Platz 1 2344 Maria Enzersdorf
SUMMARY:Burgenländische Hallenlandesmeisterschaften - Lange Strecken 2020
DESCRIPTION:<!-- <font color="red">ENTWURF 15.01.2020  2036 Uhr</font> -->
CLASS:PUBLIC
DTSTART:20200126T000000
DTEND:20200126T235959
DTSTAMP:20260423T125611 +0200
END:VEVENT
CALSCALE:GREGORIAN
END:VCALENDAR
