BEGIN:VCALENDAR
VERSION:2.0
PRODID:http://www.msecm.com
METHOD:PUBLISH
BEGIN:VEVENT
UID:15664074
ORGANIZER;CN="MSECM Austria Martin Heger":MAILTO:events@msecm.at
LOCATION:Vivax Hallenbad Mürzzuschlag Waldandacht 5 8680 Mürzzuschlag
SUMMARY:32. Trans-Semmering-Schwimmmeeting
DESCRIPTION:<!-- <font color="red">ENTWURF 26.04.2019  1539</font> -->
CLASS:PUBLIC
DTSTART:20190504T000000
DTEND:20190504T235959
DTSTAMP:20260421T164238 +0200
END:VEVENT
CALSCALE:GREGORIAN
END:VCALENDAR
